BEGIN:VCALENDAR
VERSION:2.0
PRODID:-//Stanwick Lakes - ECPv6.15.20//NONSGML v1.0//EN
CALSCALE:GREGORIAN
METHOD:PUBLISH
X-ORIGINAL-URL:https://stanwicklakes.org.uk
X-WR-CALDESC:Events for Stanwick Lakes
REFRESH-INTERVAL;VALUE=DURATION:PT1H
X-Robots-Tag:noindex
X-PUBLISHED-TTL:PT1H
BEGIN:VTIMEZONE
TZID:Europe/London
BEGIN:DAYLIGHT
TZOFFSETFROM:+0000
TZOFFSETTO:+0100
TZNAME:BST
DTSTART:20250330T010000
END:DAYLIGHT
BEGIN:STANDARD
TZOFFSETFROM:+0100
TZOFFSETTO:+0000
TZNAME:GMT
DTSTART:20251026T010000
END:STANDARD
BEGIN:DAYLIGHT
TZOFFSETFROM:+0000
TZOFFSETTO:+0100
TZNAME:BST
DTSTART:20260329T010000
END:DAYLIGHT
BEGIN:STANDARD
TZOFFSETFROM:+0100
TZOFFSETTO:+0000
TZNAME:GMT
DTSTART:20261025T010000
END:STANDARD
BEGIN:DAYLIGHT
TZOFFSETFROM:+0000
TZOFFSETTO:+0100
TZNAME:BST
DTSTART:20270328T010000
END:DAYLIGHT
BEGIN:STANDARD
TZOFFSETFROM:+0100
TZOFFSETTO:+0000
TZNAME:GMT
DTSTART:20271031T010000
END:STANDARD
BEGIN:DAYLIGHT
TZOFFSETFROM:+0000
TZOFFSETTO:+0100
TZNAME:BST
DTSTART:20280326T010000
END:DAYLIGHT
BEGIN:STANDARD
TZOFFSETFROM:+0100
TZOFFSETTO:+0000
TZNAME:GMT
DTSTART:20281029T010000
END:STANDARD
END:VTIMEZONE
BEGIN:VEVENT
DTSTART;TZID=Europe/London:20260413T100000
DTEND;TZID=Europe/London:20261116T123000
DTSTAMP:20260420T063432
CREATED:20250619T125030Z
LAST-MODIFIED:20260309T204409Z
UID:10000706-1776074400-1794832200@stanwicklakes.org.uk
SUMMARY:Mixed Media Painting Workshop
DESCRIPTION:Course Overview\nIn this session\, we will combine layered water-based media with drawing tools to create unique and detailed mixed media paintings. You’ll explore various techniques to layer different materials like watercolors\, inks\, and acrylics\, adding depth and texture to your work. Alongside these\, we’ll incorporate drawing tools such as pencils and pens to refine and enhance your composition\, bringing out intricate details. \nThroughout the session\, you’ll learn how to balance and integrate these different elements\, resulting in a richly layered piece that reflects your individual style. By the end\, you’ll have completed a mixed media painting that showcases the skills and creativity developed during the class. \nYou’re welcome to dip in and out of these sessions as each is designed to be stand-alone\, or you can choose to book them in a series for a more in-depth experience. In each class\, you will join a relaxed group where new and returning painters create together in a relaxed\, drop-in style session. All levels are welcome\, whether you’re a complete beginner or have been painting for years\, simply introduce yourself to the tutor and get stuck in. There’s always something new to learn and new people to meet!
URL:https://stanwicklakes.org.uk/events/mixed-media-painting-workshop/
LOCATION:Stanwick Lakes\, NN9 6GY
CATEGORIES:Courses,Health & Wellbeing
ATTACH;FMTTYPE=image/jpeg:https://stanwicklakes.org.uk/wp-content/uploads/2025/06/Mixed-Media-Workshop.jpg
ORGANIZER;CN="Stanwick Lakes":MAILTO:info@rftrust.org.uk
END:VEVENT
BEGIN:VEVENT
DTSTART;TZID=Europe/London:20260419T100000
DTEND;TZID=Europe/London:20261115T163000
DTSTAMP:20260420T063432
CREATED:20250723T102815Z
LAST-MODIFIED:20260325T114038Z
UID:10000714-1776592800-1794760200@stanwicklakes.org.uk
SUMMARY:Monthly Oil Painting class
DESCRIPTION:Course Overview \nEach 2.5-hour session in this oil painting course offers a unique focus and subject\, providing a fresh perspective each time you attend. We’ll delve into essential practical skills and techniques\, starting with the preparation of surfaces and moving through the various stages of painting. You’ll gain hands-on experience in applying oil paint\, using different tools\, and exploring various mediums to achieve a range of effects. \nThroughout the sessions\, we’ll cover topics such as preparing your canvas\, mixing and applying paint\, and employing different techniques to enhance your work. Whether you’re a beginner eager to learn the basics or an experienced artist looking to refine your skills and refresh your approach\, these sessions will offer valuable insights and practice. \nYou’re welcome to dip in and out of these sessions as each is designed to be stand-alone\, or you can choose to book them in a series for a more in-depth experience. In each class\, you will join a relaxed group where new and returning painters create together in a relaxed\, drop-in style session. All levels are welcome\, whether you’re a complete beginner or have been painting for years\, simply introduce yourself to the tutor and get stuck in. There’s always something new to learn and new people to meet! \nAbout the Tutor\n\nLouise is a Northamptonshire artist who’s work is sold in galleries throughout the country\, and works on private commissions in the UK and internationally. Formally trained at Loughborough University School of Art and Design\, Louise graduated with a BA Hons in Fine Art.  Her current work speaks to the beauty of the natural world and perfectly reflects approach here at Stanwick Lakes. With her friendly and enthusiastic approach\, she aims to inspire\, whether you simply want to try something new or are a budding artist.
URL:https://stanwicklakes.org.uk/events/monthly-oil-painting-class/
LOCATION:Stanwick Lakes\, NN9 6GY
ATTACH;FMTTYPE=image/jpeg:https://stanwicklakes.org.uk/wp-content/uploads/2025/07/Website-event-images.jpg
ORGANIZER;CN="Stanwick Lakes":MAILTO:info@rftrust.org.uk
END:VEVENT
BEGIN:VEVENT
DTSTART;TZID=Europe/London:20260601T133000
DTEND;TZID=Europe/London:20270125T160000
DTSTAMP:20260420T063432
CREATED:20250619T143446Z
LAST-MODIFIED:20260309T204450Z
UID:10000709-1780320600-1800892800@stanwicklakes.org.uk
SUMMARY:Monthly Acrylic Painting classes
DESCRIPTION:Course Overview\nEach 2.5-hour session in this acrylic painting course introduces a new subject and focus\, providing an engaging experience each session. You’ll explore essential practical skills and techniques\, from preparing surfaces to mastering the application of acrylic paint. Sessions also include guidance on tools and mediums\, offering you the versatility to experiment and achieve a range of effects. \nThroughout the classes\, we’ll cover topics such as preparing your painting surfaces\, mixing and layering acrylic paint\, and using various tools to create textures and finishes. Whether you’re a beginner wanting to learn the basics or an experienced artist aiming to refine your skills and refresh your approach\, these classes are designed to inspire and encourage your creativity. \nYou’re welcome to dip in and out of these sessions as each is designed to be stand-alone\, or you can choose to book them in a series for a more in-depth experience. In each class\, you will join a relaxed group where new and returning painters create together in a relaxed\, drop-in style session. All levels are welcome\, whether you’re a complete beginner or have been painting for years\, simply introduce yourself to the tutor and get stuck in. There’s always something new to learn and new people to meet!
URL:https://stanwicklakes.org.uk/events/monthly-acrylic-painting-classes/
LOCATION:Stanwick Lakes\, NN9 6GY
CATEGORIES:Courses,Health & Wellbeing
ATTACH;FMTTYPE=image/jpeg:https://stanwicklakes.org.uk/wp-content/uploads/2025/06/Acrylics-Workshop.jpg
ORGANIZER;CN="Stanwick Lakes":MAILTO:info@rftrust.org.uk
END:VEVENT
BEGIN:VEVENT
DTSTART;TZID=Europe/London:20260608T100000
DTEND;TZID=Europe/London:20270315T160000
DTSTAMP:20260420T063432
CREATED:20250619T131754Z
LAST-MODIFIED:20260309T205450Z
UID:10000707-1780912800-1805126400@stanwicklakes.org.uk
SUMMARY:Monthly Watercolours Classes
DESCRIPTION:Course Overview\nJoin us for an inspiring watercolour class where creativity flows as freely as the paint on your brush! \nEach 2.5-hour session will focus on a different subject and area of emphasis\, ensuring that every class brings something new and exciting to explore. We’ll cover a wide range of practical skills\, from the essential steps of surface preparation to the application of paint\, as well as how to effectively use various tools and mediums. \nThroughout these sessions\, you’ll learn techniques to create washes\, build layers\, add texture\, and refine fine details. Each month\, we’ll draw inspiration from different subjects\, helping you develop a broader range of skills and ideas in your watercolour practice. \nYou’re welcome to dip in and out of these sessions as each is designed to be stand-alone\, or you can choose to book them in a series for a more in-depth experience. In each class\, you will join a relaxed group where new and returning painters create together in a relaxed\, drop-in style session. All levels are welcome\, whether you’re a complete beginner or have been painting for years\, simply introduce yourself to the tutor and get stuck in. There’s always something new to learn and new people to meet!
URL:https://stanwicklakes.org.uk/events/monthly-watercolours-classes/
LOCATION:Stanwick Lakes\, NN9 6GY
CATEGORIES:Courses,Health & Wellbeing
ATTACH;FMTTYPE=image/jpeg:https://stanwicklakes.org.uk/wp-content/uploads/2025/06/Watercolour-Paint-Workshop.jpg
ORGANIZER;CN="Stanwick Lakes":MAILTO:info@rftrust.org.uk
END:VEVENT
BEGIN:VEVENT
DTSTART;TZID=Europe/London:20260904T103000
DTEND;TZID=Europe/London:20260904T133000
DTSTAMP:20260420T063432
CREATED:20260204T085446Z
LAST-MODIFIED:20260204T085446Z
UID:10000805-1788517800-1788528600@stanwicklakes.org.uk
SUMMARY:Finds Fridays at Stanwick Lakes
DESCRIPTION:Discover more about the objects you’ve found with Northamptonshire’s Finds Liaison Officer\, Eleanore Cox.\nWe’re delighted to host Eleanore from the Northamptonshire Portable Antiquities Scheme for two special FREE drop-in Finds Days: \n\nFriday 6th March\, 10.30am–1.30pm\nFriday 4th September\, 10.30am–1.30pm\n\nWhether you’ve uncovered something while out metal detecting\, unearthed an interesting object in the garden\, or held onto a mysterious family heirloom\, bring it along. \nThe Northamptonshire Finds Liaison Officer (FLO) helps identify and record archaeological finds that are over 300 years old\, whether they’ve been discovered in Northamptonshire or elsewhere in the UK. This includes items such as coins\, metal objects\, jewellery\, tools\, or any other historic artefacts you may have uncovered. \nEleanore will be available to help identify\, record\, and share the story behind your finds\, contributing to the Portable Antiquities Scheme national project to enhance our understanding of the past. \nNo booking needed—just pop in with your items and have a chat. \nUsual car parking charges apply.
URL:https://stanwicklakes.org.uk/events/finds-fridays-at-stanwick-lakes-sept/
LOCATION:Stanwick Lakes\, NN9 6GY
CATEGORIES:Heritage
ATTACH;FMTTYPE=image/png:https://stanwicklakes.org.uk/wp-content/uploads/2026/01/Website-event-images-21.png
ORGANIZER;CN="Stanwick Lakes":MAILTO:info@rftrust.org.uk
END:VEVENT
END:VCALENDAR