BEGIN:VCALENDAR
VERSION:2.0
PRODID:-//Stanwick Lakes - ECPv6.15.20//NONSGML v1.0//EN
CALSCALE:GREGORIAN
METHOD:PUBLISH
X-WR-CALNAME:Stanwick Lakes
X-ORIGINAL-URL:https://stanwicklakes.org.uk
X-WR-CALDESC:Events for Stanwick Lakes
REFRESH-INTERVAL;VALUE=DURATION:PT1H
X-Robots-Tag:noindex
X-PUBLISHED-TTL:PT1H
BEGIN:VTIMEZONE
TZID:Europe/London
BEGIN:DAYLIGHT
TZOFFSETFROM:+0000
TZOFFSETTO:+0100
TZNAME:BST
DTSTART:20240331T010000
END:DAYLIGHT
BEGIN:STANDARD
TZOFFSETFROM:+0100
TZOFFSETTO:+0000
TZNAME:GMT
DTSTART:20241027T010000
END:STANDARD
BEGIN:DAYLIGHT
TZOFFSETFROM:+0000
TZOFFSETTO:+0100
TZNAME:BST
DTSTART:20250330T010000
END:DAYLIGHT
BEGIN:STANDARD
TZOFFSETFROM:+0100
TZOFFSETTO:+0000
TZNAME:GMT
DTSTART:20251026T010000
END:STANDARD
BEGIN:DAYLIGHT
TZOFFSETFROM:+0000
TZOFFSETTO:+0100
TZNAME:BST
DTSTART:20260329T010000
END:DAYLIGHT
BEGIN:STANDARD
TZOFFSETFROM:+0100
TZOFFSETTO:+0000
TZNAME:GMT
DTSTART:20261025T010000
END:STANDARD
BEGIN:DAYLIGHT
TZOFFSETFROM:+0000
TZOFFSETTO:+0100
TZNAME:BST
DTSTART:20270328T010000
END:DAYLIGHT
BEGIN:STANDARD
TZOFFSETFROM:+0100
TZOFFSETTO:+0000
TZNAME:GMT
DTSTART:20271031T010000
END:STANDARD
END:VTIMEZONE
BEGIN:VEVENT
DTSTART;TZID=Europe/London:20250812T103000
DTEND;TZID=Europe/London:20250812T120000
DTSTAMP:20260420T051414
CREATED:20250619T114733Z
LAST-MODIFIED:20250811T170217Z
UID:10000697-1754994600-1755000000@stanwicklakes.org.uk
SUMMARY:Pond Dipping with a Ranger!
DESCRIPTION:Join our rangers for a pond dipping session this summer! \nUsing nets\, trays and magnifying glasses and guided by one of our rangers\, come and discover the creatures that live in the ponds at Stanwick Lakes! After a safety briefing and an introduction to the creatures we’re likely to find\, we’ll head to the pond dipping platform where you will be given a pond dipping kit! The Ranger will be on hand with identification keys to help you work out which creatures you have caught as well as to share knowledge about the pond ecosystem and the many species that call it home. \nSessions last approx. 30 minutes and a responsible adult must be present throughout. \nMeet at the Ranger Cabin 5 mins before your chosen ticketed start time. \nPlease bring appropriate footwear and clothing (including sun hats) and sun cream – it can be hot on the dipping platforms! \nBelow you are booking pond dipping for Tuesday 12th August 2025. \nPlease check the date carefully before you book as refunds cannot be given.
URL:https://stanwicklakes.org.uk/events/pond-dipping-with-a-ranger-12th-august/
LOCATION:Stanwick Lakes\, NN9 6GY
CATEGORIES:Adventure,Featured Events,Nature Engagement,Summer Holidays
ATTACH;FMTTYPE=image/jpeg:https://stanwicklakes.org.uk/wp-content/uploads/2025/03/Website-event-images-64.jpg
ORGANIZER;CN="Stanwick Lakes":MAILTO:info@rftrust.org.uk
END:VEVENT
BEGIN:VEVENT
DTSTART;TZID=Europe/London:20250814T100000
DTEND;TZID=Europe/London:20250814T120000
DTSTAMP:20260420T051414
CREATED:20250619T115018Z
LAST-MODIFIED:20250809T191454Z
UID:10000703-1755165600-1755172800@stanwicklakes.org.uk
SUMMARY:Den Building with a Ranger!
DESCRIPTION:Build a den at Stanwick Lakes this summer! \nA Ranger will lead your group to our den building area and introduce you to the tools and materials available\, and we’ll discuss the main properties a shelter should have if it were to be needed in a survival situation! You’ll then be set a challenge\, in your groups\, to build your own waterproof den! One of our Ranger team will be on hand to visit your shelter and hear about your chosen den-building techniques and vision and we might even test out how waterproof your shelters really are! \nSessions last approx. 60 minutes and a responsible adult must be present throughout. \nMeet at the Ranger Cabin 5 mins before your chosen ticketed start time. \nPlease bring appropriate footwear and sunhats/suncream. \nYou are booking for Thursday 14th August 2025 below. \nPlease note no refunds will be given so check your selected date/time carefully before booking.
URL:https://stanwicklakes.org.uk/events/den-building-with-a-ranger-14th-aug/
LOCATION:Stanwick Lakes\, NN9 6GY
CATEGORIES:Adventure,Nature Engagement,Summer Holidays
ATTACH;FMTTYPE=image/jpeg:https://stanwicklakes.org.uk/wp-content/uploads/2025/03/Website-event-images-65.jpg
ORGANIZER;CN="Stanwick Lakes":MAILTO:info@rftrust.org.uk
END:VEVENT
BEGIN:VEVENT
DTSTART;TZID=Europe/London:20250819T103000
DTEND;TZID=Europe/London:20250819T120000
DTSTAMP:20260420T051414
CREATED:20250619T114633Z
LAST-MODIFIED:20250813T141742Z
UID:10000698-1755599400-1755604800@stanwicklakes.org.uk
SUMMARY:Pond Dipping with a Ranger!
DESCRIPTION:Join our rangers for a pond dipping session this summer! \nUsing nets\, trays and magnifying glasses and guided by one of our rangers\, come and discover the creatures that live in the ponds at Stanwick Lakes! After a safety briefing and an introduction to the creatures we’re likely to find\, we’ll head to the pond dipping platform where you will be given a pond dipping kit! The Ranger will be on hand with identification keys to help you work out which creatures you have caught as well as to share knowledge about the pond ecosystem and the many species that call it home. \nSessions last approx. 30 minutes and a responsible adult must be present throughout. \nMeet at the Ranger Cabin 5 mins before your chosen ticketed start time. \nPlease bring appropriate footwear and clothing (including sun hats) and sun cream – it can be hot on the dipping platforms! \nBelow you are booking pond dipping for Tuesday 19th August 2025. \nPlease check the date carefully before you book as refunds cannot be given.
URL:https://stanwicklakes.org.uk/events/pond-dipping-with-a-ranger-19th-august/
LOCATION:Stanwick Lakes\, NN9 6GY
CATEGORIES:Adventure,Featured Events,Nature Engagement,Summer Holidays
ATTACH;FMTTYPE=image/jpeg:https://stanwicklakes.org.uk/wp-content/uploads/2025/03/Website-event-images-64.jpg
ORGANIZER;CN="Stanwick Lakes":MAILTO:info@rftrust.org.uk
END:VEVENT
BEGIN:VEVENT
DTSTART;TZID=Europe/London:20250821T100000
DTEND;TZID=Europe/London:20250821T120000
DTSTAMP:20260420T051414
CREATED:20250619T114930Z
LAST-MODIFIED:20250813T093615Z
UID:10000704-1755770400-1755777600@stanwicklakes.org.uk
SUMMARY:Den Building with a Ranger!
DESCRIPTION:Build a den at Stanwick Lakes this summer! \nA Ranger will lead your group to our den building area and introduce you to the tools and materials available\, and we’ll discuss the main properties a shelter should have if it were to be needed in a survival situation! You’ll then be set a challenge\, in your groups\, to build your own waterproof den! One of our Ranger team will be on hand to visit your shelter and hear about your chosen den-building techniques and vision and we might even test out how waterproof your shelters really are! \nSessions last approx. 60 minutes and a responsible adult must be present throughout. \nMeet at the Ranger Cabin 5 mins before your chosen ticketed start time. \nPlease bring appropriate footwear and sunhats/suncream. \nYou are booking for Thursday 21st August 2025 below. \nPlease note no refunds will be given so check your selected date/time carefully before booking.
URL:https://stanwicklakes.org.uk/events/den-building-with-a-ranger-21st-august/
LOCATION:Stanwick Lakes\, NN9 6GY
CATEGORIES:Adventure,Featured Events,Nature Engagement,Summer Holidays
ATTACH;FMTTYPE=image/jpeg:https://stanwicklakes.org.uk/wp-content/uploads/2025/03/Website-event-images-65.jpg
ORGANIZER;CN="Stanwick Lakes":MAILTO:info@rftrust.org.uk
END:VEVENT
BEGIN:VEVENT
DTSTART;TZID=Europe/London:20250826T103000
DTEND;TZID=Europe/London:20250826T120000
DTSTAMP:20260420T051414
CREATED:20250619T114542Z
LAST-MODIFIED:20250819T185312Z
UID:10000699-1756204200-1756209600@stanwicklakes.org.uk
SUMMARY:Pond Dipping with a Ranger!
DESCRIPTION:Join our rangers for a pond dipping session this summer! \nUsing nets\, trays and magnifying glasses and guided by one of our rangers\, come and discover the creatures that live in the ponds at Stanwick Lakes! After a safety briefing and an introduction to the creatures we’re likely to find\, we’ll head to the pond dipping platform where you will be given a pond dipping kit! The Ranger will be on hand with identification keys to help you work out which creatures you have caught as well as to share knowledge about the pond ecosystem and the many species that call it home. \nSessions last approx. 30 minutes and a responsible adult must be present throughout. \nMeet at the Ranger Cabin 5 mins before your chosen ticketed start time. \nPlease bring appropriate footwear and clothing (including sun hats) and sun cream – it can be hot on the dipping platforms! \nBelow you are booking pond dipping for Tuesday 26th August 2025. \nPlease check the date carefully before you book as refunds cannot be given.
URL:https://stanwicklakes.org.uk/events/pond-dipping-with-a-ranger-26th-august/
LOCATION:Stanwick Lakes\, NN9 6GY
CATEGORIES:Adventure,Featured Events,Nature Engagement,Summer Holidays
ATTACH;FMTTYPE=image/jpeg:https://stanwicklakes.org.uk/wp-content/uploads/2025/03/Website-event-images-64.jpg
ORGANIZER;CN="Stanwick Lakes":MAILTO:info@rftrust.org.uk
END:VEVENT
BEGIN:VEVENT
DTSTART;TZID=Europe/London:20250828T100000
DTEND;TZID=Europe/London:20250828T120000
DTSTAMP:20260420T051414
CREATED:20250619T114839Z
LAST-MODIFIED:20250804T100019Z
UID:10000705-1756375200-1756382400@stanwicklakes.org.uk
SUMMARY:Den Building with a Ranger!
DESCRIPTION:Build a den at Stanwick Lakes this summer! \nA Ranger will lead your group to our den building area and introduce you to the tools and materials available\, and we’ll discuss the main properties a shelter should have if it were to be needed in a survival situation! You’ll then be set a challenge\, in your groups\, to build your own waterproof den! One of our Ranger team will be on hand to visit your shelter and hear about your chosen den-building techniques and vision and we might even test out how waterproof your shelters really are! \nSessions last approx. 60 minutes and a responsible adult must be present throughout. \nMeet at the Ranger Cabin 5 mins before your chosen ticketed start time. \nPlease bring appropriate footwear and sunhats/suncream. \nYou are booking for Thursday 28th August 2025 below. \nPlease note no refunds will be given so check your selected date/time carefully before booking.
URL:https://stanwicklakes.org.uk/events/den-building-with-a-ranger-28th-august/
LOCATION:Stanwick Lakes\, NN9 6GY
CATEGORIES:Adventure,Nature Engagement,Summer Holidays
ATTACH;FMTTYPE=image/jpeg:https://stanwicklakes.org.uk/wp-content/uploads/2025/03/Website-event-images-65.jpg
ORGANIZER;CN="Stanwick Lakes":MAILTO:info@rftrust.org.uk
END:VEVENT
BEGIN:VEVENT
DTSTART;TZID=Europe/London:20250907T080000
DTEND;TZID=Europe/London:20250907T140000
DTSTAMP:20260420T051414
CREATED:20250317T113919Z
LAST-MODIFIED:20250901T182731Z
UID:10000669-1757232000-1757253600@stanwicklakes.org.uk
SUMMARY:Run at Stanwick Lakes - Autumn Run
DESCRIPTION:Come along and join us for our third run of the year here at Stanwick Lakes! \nYou have a choice of running 5k\, 10k or even pushing yourself to complete a half-marathon in the beautiful scenery of our lakes. It’s a lovely way to promote fitness for physical and mental health as well as supporting us here at Rockingham Forest Trust. \nFor more information and to book\, visit https://stanwicklakes.org.uk/stanwick-lakes-run-series/ \nFor event updates follow runatstanwicklakes on Facebook where you can find further information and to register with us.
URL:https://stanwicklakes.org.uk/events/run-at-stanwick-lakes-autumn-run/
LOCATION:Stanwick Lakes\, NN9 6GY
CATEGORIES:Adventure,Featured Events,Run At Stanwick Lakes
ATTACH;FMTTYPE=image/png:https://stanwicklakes.org.uk/wp-content/uploads/2025/03/Run-2025.png
ORGANIZER;CN="Stanwick Lakes":MAILTO:info@rftrust.org.uk
END:VEVENT
BEGIN:VEVENT
DTSTART;TZID=Europe/London:20251130T080000
DTEND;TZID=Europe/London:20251130T140000
DTSTAMP:20260420T051414
CREATED:20250317T144647Z
LAST-MODIFIED:20250910T102513Z
UID:10000670-1764489600-1764511200@stanwicklakes.org.uk
SUMMARY:Run at Stanwick Lakes - Winter Run
DESCRIPTION:Come along and join us for our final run of the year here at Stanwick Lakes! \nYou have a choice of running 5k\, 10k or even pushing yourself to complete a half-marathon in the beautiful scenery of our lakes. It’s a lovely way to promote fitness for physical and mental health as well as supporting us here at Rockingham Forest Trust. \nFor event updates follow runatstanwicklakes on Facebook where you can find further information and to register with us.
URL:https://stanwicklakes.org.uk/events/run-at-stanwick-lakes-winter-run/
LOCATION:Stanwick Lakes\, NN9 6GY
CATEGORIES:Adventure,Run At Stanwick Lakes
ATTACH;FMTTYPE=image/png:https://stanwicklakes.org.uk/wp-content/uploads/2025/03/Run-2025.png
ORGANIZER;CN="Stanwick Lakes":MAILTO:info@rftrust.org.uk
END:VEVENT
BEGIN:VEVENT
DTSTART;TZID=Europe/London:20260104T100000
DTEND;TZID=Europe/London:20260104T120000
DTSTAMP:20260420T051414
CREATED:20251203T121253Z
LAST-MODIFIED:20251203T121726Z
UID:10000769-1767520800-1767528000@stanwicklakes.org.uk
SUMMARY:Winter Bird Walk
DESCRIPTION:Winter Bird Walk on Sunday 4th January \nJoin members of the RSPB Mid Nene Local Group on a 2 hour walk around Stanwick Lakes nature reserve. Curious about spotting and identifying wetland birds? This beginner-friendly walk is the perfect opportunity! Designed for beginners\, but all are welcome. Bird guides and binoculars will be available to borrow on the day. \nWalk starts at 10:00am\, meet outside the Visitor Centre. \nBOOKING ESSENTIAL. Please check the date and time carefully as no refunds can be given. \nChildren must be accompanied by an adult on this walk. Most suitable for those aged 7+. \nUsual parking charges apply.
URL:https://stanwicklakes.org.uk/events/winter-bird-walk/
LOCATION:Stanwick Lakes\, NN9 6GY
CATEGORIES:Adventure,Featured Events,Nature Engagement,Summer Holidays
ATTACH;FMTTYPE=image/png:https://stanwicklakes.org.uk/wp-content/uploads/2025/12/Website-event-images-5.png
ORGANIZER;CN="Stanwick Lakes":MAILTO:info@rftrust.org.uk
END:VEVENT
BEGIN:VEVENT
DTSTART;TZID=Europe/London:20260118T080000
DTEND;TZID=Europe/London:20260118T130000
DTSTAMP:20260420T051414
CREATED:20251204T125325Z
LAST-MODIFIED:20260117T160237Z
UID:10000772-1768723200-1768741200@stanwicklakes.org.uk
SUMMARY:Big Garden Birdwatch
DESCRIPTION:JOIN US AT STANWICK LAKES TO GET READY FOR THE WORLD’S LARGEST WILDLIFE SURVEY! \nEDIT 17.01.26 The bird ringing demonstration part of this event has been cancelled due to flooding in a part of the nature reserve. The children’s activities\, bird identification information\, Qs & As about the RSPB Big Garden Birdwatch and guided bird walks will still be taking place and we look forward to seeing you! (For those coming for a general visit\, Solstice Lake paths are passable and the Visitor Centre remains open.) \nAre you ready for the RSPB’s Big Garden Birdwatch? \nOur Big Garden Birdwatch ‘warm-up’ event on the 18th of January is the perfect way to prepare! Enjoy guided bird walks\, fascinating bird ringing demonstrations (weather dependent)\, children’s activities running throughout the morning\, and helpful bird ID information available to take home. \nWhether you’re a keen birdwatcher or just starting out\, this is a fantastic opportunity to enjoy birds and get ready to take part in the official big count – an important nationwide survey – the following weekend! \nThings to look forward to on the day: \n\nGuided bird walks with the RSPB 9.30am and 11am\nBird ringing demonstrations from 8am *weather dependent)\nFREE activities for children 10am -1pm\nBird identification information.\n\nFind out more here at the RSPB Big Garden Birdwatch: https://www.rspb.org.uk/whats-happening/big-garden-birdwatch \nUsual parking charges apply.
URL:https://stanwicklakes.org.uk/events/big-garden-birdwatch/
LOCATION:Stanwick Lakes\, NN9 6GY
CATEGORIES:Adventure,Featured Events,Nature Engagement
ATTACH;FMTTYPE=image/png:https://stanwicklakes.org.uk/wp-content/uploads/2025/12/Website-event-images-7.png
ORGANIZER;CN="Stanwick Lakes":MAILTO:info@rftrust.org.uk
END:VEVENT
BEGIN:VEVENT
DTSTART;TZID=Europe/London:20260402T100000
DTEND;TZID=Europe/London:20260402T121500
DTSTAMP:20260420T051414
CREATED:20260309T141303Z
LAST-MODIFIED:20260401T183037Z
UID:10000811-1775124000-1775132100@stanwicklakes.org.uk
SUMMARY:Den Building - 2nd April
DESCRIPTION:Build a den at Stanwick Lakes this Easter!\nA Ranger will lead your group to our den building area and introduce you to the tools and materials available\, and we’ll discuss the main properties a shelter should have if it were to be needed in a survival situation! You’ll then be set a challenge\, in your groups\, to build your own waterproof den! One of our Ranger team will be on hand to visit your shelter and hear about your chosen den-building techniques and vision and we might even test out how waterproof your shelters really are! \nThis activity is suitable for children aged 4+. \nSessions last approx. 60 minutes and a responsible adult must be present throughout.\nMeet at the Ranger Cabin 5 mins before and your chosen\, ticketed start time.\nPlease check our website on the day of your session for information regarding flooding – wellies may be advisable! \nPlease take a moment to check the date and time and make sure they work for your plans before booking\, as tickets are non-refundable.
URL:https://stanwicklakes.org.uk/events/den-building-easter-holiday-fun-2nd-april/
LOCATION:Stanwick Lakes\, NN9 6GY
CATEGORIES:Adventure,Easter,Featured Events
ATTACH;FMTTYPE=image/jpeg:https://stanwicklakes.org.uk/wp-content/uploads/2026/03/IMG-20260309-WA0006-den-building.jpg
ORGANIZER;CN="Stanwick Lakes":MAILTO:info@rftrust.org.uk
END:VEVENT
BEGIN:VEVENT
DTSTART;TZID=Europe/London:20260409T100000
DTEND;TZID=Europe/London:20260409T121500
DTSTAMP:20260420T051414
CREATED:20260309T152059Z
LAST-MODIFIED:20260408T093251Z
UID:10000812-1775728800-1775736900@stanwicklakes.org.uk
SUMMARY:Den Building - 9th April
DESCRIPTION:Build a den at Stanwick Lakes this Easter!\nA Ranger will lead your group to our den building area and introduce you to the tools and materials available\, and we’ll discuss the main properties a shelter should have if it were to be needed in a survival situation! You’ll then be set a challenge\, in your groups\, to build your own waterproof den! One of our Ranger team will be on hand to visit your shelter and hear about your chosen den-building techniques and vision and we might even test out how waterproof your shelters really are! \nThis activity is suitable for children aged 4+. \nSessions last approx. 60 minutes and a responsible adult must be present throughout.\nMeet at the Ranger Cabin 5 mins before and your chosen\, ticketed start time.\nPlease check our website on the day of your session for information regarding flooding – wellies may be advisable! \nPlease take a moment to check the date and time and make sure they work for your plans before booking\, as tickets are non-refundable.
URL:https://stanwicklakes.org.uk/events/den-building-9th-april/
LOCATION:Stanwick Lakes\, NN9 6GY
CATEGORIES:Adventure,Easter,Featured Events
ATTACH;FMTTYPE=image/jpeg:https://stanwicklakes.org.uk/wp-content/uploads/2026/03/IMG-20260309-WA0006-den-building.jpg
ORGANIZER;CN="Stanwick Lakes":MAILTO:info@rftrust.org.uk
END:VEVENT
END:VCALENDAR