BEGIN:VCALENDAR
VERSION:2.0
PRODID:-//Stanwick Lakes - ECPv6.15.20//NONSGML v1.0//EN
CALSCALE:GREGORIAN
METHOD:PUBLISH
X-ORIGINAL-URL:https://stanwicklakes.org.uk
X-WR-CALDESC:Events for Stanwick Lakes
REFRESH-INTERVAL;VALUE=DURATION:PT1H
X-Robots-Tag:noindex
X-PUBLISHED-TTL:PT1H
BEGIN:VTIMEZONE
TZID:Europe/London
BEGIN:DAYLIGHT
TZOFFSETFROM:+0000
TZOFFSETTO:+0100
TZNAME:BST
DTSTART:20240331T010000
END:DAYLIGHT
BEGIN:STANDARD
TZOFFSETFROM:+0100
TZOFFSETTO:+0000
TZNAME:GMT
DTSTART:20241027T010000
END:STANDARD
BEGIN:DAYLIGHT
TZOFFSETFROM:+0000
TZOFFSETTO:+0100
TZNAME:BST
DTSTART:20250330T010000
END:DAYLIGHT
BEGIN:STANDARD
TZOFFSETFROM:+0100
TZOFFSETTO:+0000
TZNAME:GMT
DTSTART:20251026T010000
END:STANDARD
BEGIN:DAYLIGHT
TZOFFSETFROM:+0000
TZOFFSETTO:+0100
TZNAME:BST
DTSTART:20260329T010000
END:DAYLIGHT
BEGIN:STANDARD
TZOFFSETFROM:+0100
TZOFFSETTO:+0000
TZNAME:GMT
DTSTART:20261025T010000
END:STANDARD
END:VTIMEZONE
BEGIN:VEVENT
DTSTART;TZID=Europe/London:20250812T100000
DTEND;TZID=Europe/London:20250812T120000
DTSTAMP:20260420T045927
CREATED:20250703T112312Z
LAST-MODIFIED:20250811T170623Z
UID:10000713-1754992800-1755000000@stanwicklakes.org.uk
SUMMARY:Winged Wonders Guided Walk
DESCRIPTION:Winged Wonders Guided Walk \nJoin expert Doug Goddard on Tuesday 12th August for our Winged Wonders Walk at Stanwick Lakes. Doug will lead you on a guided walk to spot and identify butterflies and dragonflies that live on the riverbanks\, lakesides and meadows of the nature reserve. This walk is suitable for adults and children aged 7 and over (although younger children welcome) and is a great summer holiday activity for children passionate about nature! \nWalk starts at 10:00am\, meet outside the Visitor Centre. \nBOOKING ESSENTIAL. Please check the date and time carefully as no refunds can be given. \nChildren must be accompanied by an adult on this walk. Children under age 2 are free.
URL:https://stanwicklakes.org.uk/events/winged-wonders-guided-walk/
LOCATION:Stanwick Lakes\, NN9 6GY
CATEGORIES:Adventure,Featured Events,Nature Engagement,Summer Holidays
ATTACH;FMTTYPE=image/png:https://stanwicklakes.org.uk/wp-content/uploads/2025/07/Winged-Wonders-Walk.png
ORGANIZER;CN="Stanwick Lakes":MAILTO:info@rftrust.org.uk
END:VEVENT
BEGIN:VEVENT
DTSTART;TZID=Europe/London:20250807T100000
DTEND;TZID=Europe/London:20250807T120000
DTSTAMP:20260420T045927
CREATED:20250619T115104Z
LAST-MODIFIED:20250619T115104Z
UID:10000702-1754560800-1754568000@stanwicklakes.org.uk
SUMMARY:Den Building with a Ranger!
DESCRIPTION:Build a den at Stanwick Lakes this summer! \nA Ranger will lead your group to our den building area and introduce you to the tools and materials available\, and we’ll discuss the main properties a shelter should have if it were to be needed in a survival situation! You’ll then be set a challenge\, in your groups\, to build your own waterproof den! One of our Ranger team will be on hand to visit your shelter and hear about your chosen den-building techniques and vision and we might even test out how waterproof your shelters really are! \nSessions last approx. 60 minutes and a responsible adult must be present throughout. \nMeet at the Ranger Cabin 5 mins before your chosen ticketed start time. \nPlease bring appropriate footwear and sunhats/suncream. \nYou are booking for Thursday 7th August 2025 below. \nPlease note no refunds will be given so check your selected date/time carefully before booking.
URL:https://stanwicklakes.org.uk/events/den-building-with-a-ranger-6/
LOCATION:Stanwick Lakes\, NN9 6GY
CATEGORIES:Adventure,Nature Engagement,Summer Holidays
ATTACH;FMTTYPE=image/jpeg:https://stanwicklakes.org.uk/wp-content/uploads/2025/03/Website-event-images-65.jpg
ORGANIZER;CN="Stanwick Lakes":MAILTO:info@rftrust.org.uk
END:VEVENT
BEGIN:VEVENT
DTSTART;TZID=Europe/London:20250805T103000
DTEND;TZID=Europe/London:20250805T120000
DTSTAMP:20260420T045927
CREATED:20250619T114442Z
LAST-MODIFIED:20250729T100205Z
UID:10000696-1754389800-1754395200@stanwicklakes.org.uk
SUMMARY:Pond Dipping with a Ranger!
DESCRIPTION:Join our rangers for a pond dipping session this summer! \nUsing nets\, trays and magnifying glasses and guided by one of our rangers\, come and discover the creatures that live in the ponds at Stanwick Lakes! After a safety briefing and an introduction to the creatures we’re likely to find\, we’ll head to the pond dipping platform where you will be given a pond dipping kit! The Ranger will be on hand with identification keys to help you work out which creatures you have caught as well as to share knowledge about the pond ecosystem and the many species that call it home. \nSessions last approx. 30 minutes and a responsible adult must be present throughout. \nMeet at the Ranger Cabin 5 mins before your chosen ticketed start time. \nPlease bring appropriate footwear and clothing (including sun hats) and sun cream – it can be hot on the dipping platforms! \nBelow you are booking pond dipping for Tuesday 5th August 2025. \nPlease check the date carefully before you book as refunds cannot be given.
URL:https://stanwicklakes.org.uk/events/pond-dipping-with-a-ranger-4/
LOCATION:Stanwick Lakes\, NN9 6GY
CATEGORIES:Adventure,Featured Events,Nature Engagement,Summer Holidays
ATTACH;FMTTYPE=image/jpeg:https://stanwicklakes.org.uk/wp-content/uploads/2025/03/Website-event-images-64.jpg
ORGANIZER;CN="Stanwick Lakes":MAILTO:info@rftrust.org.uk
END:VEVENT
BEGIN:VEVENT
DTSTART;TZID=Europe/London:20250731T100000
DTEND;TZID=Europe/London:20250731T120000
DTSTAMP:20260420T045927
CREATED:20250619T115205Z
LAST-MODIFIED:20250730T183552Z
UID:10000701-1753956000-1753963200@stanwicklakes.org.uk
SUMMARY:Den Building with a Ranger!
DESCRIPTION:Build a den at Stanwick Lakes this summer! \nA Ranger will lead your group to our den building area and introduce you to the tools and materials available\, and we’ll discuss the main properties a shelter should have if it were to be needed in a survival situation! You’ll then be set a challenge\, in your groups\, to build your own waterproof den! One of our Ranger team will be on hand to visit your shelter and hear about your chosen den-building techniques and vision and we might even test out how waterproof your shelters really are! \nSessions last approx. 60 minutes and a responsible adult must be present throughout. \nMeet at the Ranger Cabin 5 mins before your chosen ticketed start time. \nPlease bring appropriate footwear and sunhats/suncream. \nYou are booking for Thursday 31st July 2025 below. \nPlease note no refunds will be given so check your selected date/time carefully before booking.
URL:https://stanwicklakes.org.uk/events/den-building-with-a-ranger-31st-july/
LOCATION:Stanwick Lakes\, NN9 6GY
CATEGORIES:Adventure,Featured Events,Nature Engagement,Summer Holidays
ATTACH;FMTTYPE=image/jpeg:https://stanwicklakes.org.uk/wp-content/uploads/2025/03/Website-event-images-65.jpg
ORGANIZER;CN="Stanwick Lakes":MAILTO:info@rftrust.org.uk
END:VEVENT
BEGIN:VEVENT
DTSTART;TZID=Europe/London:20250729T103000
DTEND;TZID=Europe/London:20250729T120000
DTSTAMP:20260420T045927
CREATED:20250619T114352Z
LAST-MODIFIED:20250729T095917Z
UID:10000695-1753785000-1753790400@stanwicklakes.org.uk
SUMMARY:Pond Dipping with a Ranger!
DESCRIPTION:Join our rangers for a pond dipping session this summer! \nUsing nets\, trays and magnifying glasses and guided by one of our rangers\, come and discover the creatures that live in the ponds at Stanwick Lakes! After a safety briefing and an introduction to the creatures we’re likely to find\, we’ll head to the pond dipping platform where you will be given a pond dipping kit! The Ranger will be on hand with identification keys to help you work out which creatures you have caught as well as to share knowledge about the pond ecosystem and the many species that call it home. \nSessions last approx. 30 minutes and a responsible adult must be present throughout. \nMeet at the Ranger Cabin 5 mins before your chosen ticketed start time. \nPlease bring appropriate footwear and clothing (including sun hats) and sun cream – it can be hot on the dipping platforms! \nBelow you are booking pond dipping for Tuesday 29th July 2025. \nPlease check the date carefully before you book as refunds cannot be given.
URL:https://stanwicklakes.org.uk/events/pond-dipping-with-a-ranger-3/
LOCATION:Stanwick Lakes\, NN9 6GY
CATEGORIES:Adventure,Nature Engagement,Summer Holidays
ATTACH;FMTTYPE=image/jpeg:https://stanwicklakes.org.uk/wp-content/uploads/2025/03/Website-event-images-64.jpg
ORGANIZER;CN="Stanwick Lakes":MAILTO:info@rftrust.org.uk
END:VEVENT
BEGIN:VEVENT
DTSTART;TZID=Europe/London:20250724T100000
DTEND;TZID=Europe/London:20250724T120000
DTSTAMP:20260420T045927
CREATED:20250619T115309Z
LAST-MODIFIED:20250724T085627Z
UID:10000700-1753351200-1753358400@stanwicklakes.org.uk
SUMMARY:Den Building with a Ranger!
DESCRIPTION:Build a den at Stanwick Lakes this summer! \nA Ranger will lead your group to our den building area and introduce you to the tools and materials available\, and we’ll discuss the main properties a shelter should have if it were to be needed in a survival situation! You’ll then be set a challenge\, in your groups\, to build your own waterproof den! One of our Ranger team will be on hand to visit your shelter and hear about your chosen den-building techniques and vision and we might even test out how waterproof your shelters really are! \nSessions last approx. 60 minutes and a responsible adult must be present throughout. \nMeet at the Ranger Cabin 5 mins before your chosen ticketed start time. \nPlease bring appropriate footwear and sunhats/suncream. \nYou are booking for Thursday 24th July 2025 below. \nPlease note no refunds will be given so check your selected date/time carefully before booking.
URL:https://stanwicklakes.org.uk/events/den-building-with-a-ranger-24th-july/
LOCATION:Stanwick Lakes\, NN9 6GY
CATEGORIES:Adventure,Featured Events,Nature Engagement,Summer Holidays
ATTACH;FMTTYPE=image/jpeg:https://stanwicklakes.org.uk/wp-content/uploads/2025/03/Website-event-images-65.jpg
ORGANIZER;CN="Stanwick Lakes":MAILTO:info@rftrust.org.uk
END:VEVENT
BEGIN:VEVENT
DTSTART;TZID=Europe/London:20250601T080000
DTEND;TZID=Europe/London:20250601T140000
DTSTAMP:20260420T045927
CREATED:20250317T113813Z
LAST-MODIFIED:20250517T211010Z
UID:10000665-1748764800-1748786400@stanwicklakes.org.uk
SUMMARY:Run at Stanwick Lakes - Summer Run
DESCRIPTION:Come along and join us for our 2nd run of the year here at Stanwick Lakes! \nYou have a choice of running 5k\, 10k or even pushing yourself to complete a half-marathon in the beautiful scenery of our lakes. \nRegister now: https://stanwicklakes.org.uk/stanwick-lakes-run-series/ \nIt’s a lovely way to promote fitness for physical and mental health as well as supporting us here at Rockingham Forest Trust. \nFor event updates follow @RunAtStanwickLakes on Facebook where you can find further information and to register.
URL:https://stanwicklakes.org.uk/events/run-at-stanwick-lakes-summer-run/
LOCATION:Stanwick Lakes\, NN9 6GY
CATEGORIES:Adventure,Run At Stanwick Lakes
ATTACH;FMTTYPE=image/png:https://stanwicklakes.org.uk/wp-content/uploads/2025/03/Run-2025.png
ORGANIZER;CN="Stanwick Lakes":MAILTO:info@rftrust.org.uk
END:VEVENT
BEGIN:VEVENT
DTSTART;TZID=Europe/London:20250529T100000
DTEND;TZID=Europe/London:20250529T123000
DTSTAMP:20260420T045927
CREATED:20250508T151851Z
LAST-MODIFIED:20250528T090145Z
UID:10000691-1748512800-1748521800@stanwicklakes.org.uk
SUMMARY:Den Building with a Ranger!
DESCRIPTION:Build a den at Stanwick Lakes this half term! \nA Ranger will lead your group to our den building area and introduce you to the tools and materials available\, and we’ll discuss the main properties a shelter should have if it were to be needed in a survival situation! You’ll then be set a challenge\, in your groups\, to build your own waterproof den! One of our Ranger team will be on hand to visit your shelter and hear about your chosen den-building techniques and vision and we might even test out how waterproof your shelters really are! \nSessions last approx. 60 minutes and a responsible adult must be present throughout. \nMeet at the Ranger Cabin 5 mins before and your chosen\, ticketed start time. \nPlease check our website on the day of your session for information regarding flooding – wellies may be advisable! \nPlease note no refunds will be given so check your selected date/time carefully before booking.
URL:https://stanwicklakes.org.uk/events/den-building-may-half-term/
LOCATION:Stanwick Lakes\, NN9 6GY
CATEGORIES:Adventure,Learn,Nature Engagement
ATTACH;FMTTYPE=image/jpeg:https://stanwicklakes.org.uk/wp-content/uploads/2025/03/Website-event-images-65.jpg
ORGANIZER;CN="Stanwick Lakes":MAILTO:info@rftrust.org.uk
END:VEVENT
BEGIN:VEVENT
DTSTART;TZID=Europe/London:20250527T100000
DTEND;TZID=Europe/London:20250527T123000
DTSTAMP:20260420T045927
CREATED:20250508T151707Z
LAST-MODIFIED:20250526T153659Z
UID:10000690-1748340000-1748349000@stanwicklakes.org.uk
SUMMARY:Pond Dipping with a Ranger
DESCRIPTION:Join our rangers for a pond dipping session this half term! \nUsing nets\, trays and magnifying glasses and guided by one of our rangers\, come and discover the creatures that live in the ponds at Stanwick Lakes! After a safety briefing and an introduction to the creatures we’re likely to find\, we’ll head to the pond dipping platform where you will be given a pond dipping kit! The Ranger will be on hand with identification keys to help you work out which creatures you have caught as well as to share knowledge about the pond ecosystem and the many species that call it home. \nSessions last approx. 30 minutes and a responsible adult must be present throughout. \nMeet at the Ranger Cabin 5 mins before and your chosen\, ticketed start time. \nPlease check our website on the day of your session for information regarding flooding – wellies may be advisable! \nPlease also note no refunds will be given so please check your chosen dates carefully before booking.
URL:https://stanwicklakes.org.uk/events/pond-dipping-with-a-ranger-may/
CATEGORIES:Adventure,Learn,Nature Engagement
ATTACH;FMTTYPE=image/jpeg:https://stanwicklakes.org.uk/wp-content/uploads/2025/05/Pond-Dipping-blank.jpg
END:VEVENT
BEGIN:VEVENT
DTSTART;TZID=Europe/London:20250523T173000
DTEND;TZID=Europe/London:20250912T200000
DTSTAMP:20260420T045927
CREATED:20250317T150834Z
LAST-MODIFIED:20250910T102607Z
UID:10000671-1748021400-1757707200@stanwicklakes.org.uk
SUMMARY:Open Water Swimming: May - September!
DESCRIPTION:We are pleased to confirm that our popular Open Water Swimming sessions are returning from 23rd May 2025. \nTickets are available now! Book here: https://stanwicklakes.org.uk/open-water-swimming-booking-page/ \nMay\nFriday 23rd \nJune\nFriday 6th\nFriday 20th \nJuly\nFriday 4th\nFriday 18th \nAugust\nFriday 1st\nFriday 15th\nFriday 29th \nSeptember\nFriday 12th (Celebratory End of Season Night Swim!) \nTickets are available now! Book here: https://stanwicklakes.org.uk/open-water-swimming-booking-page/
URL:https://stanwicklakes.org.uk/events/open-water-swimming-save-the-dates/
LOCATION:Stanwick Lakes\, NN9 6GY
CATEGORIES:Adventure,Open Water Swimming
ATTACH;FMTTYPE=image/jpeg:https://stanwicklakes.org.uk/wp-content/uploads/2025/03/OWS.jpg
ORGANIZER;CN="Stanwick Lakes":MAILTO:info@rftrust.org.uk
END:VEVENT
BEGIN:VEVENT
DTSTART;TZID=Europe/London:20250510T100000
DTEND;TZID=Europe/London:20250511T163000
DTSTAMP:20260420T045927
CREATED:20250405T185223Z
LAST-MODIFIED:20250409T185011Z
UID:10000676-1746871200-1746981000@stanwicklakes.org.uk
SUMMARY:Gathering Of Kings
DESCRIPTION:Step into the world of the Vikings! Explore our immersive living history camp\, witness thrilling battles\, and cheer on warriors in a one-on-one combat competition to crown the new king! Stroll through the trade stalls\, treat yourself to unique treasures\, and enjoy everything Stanwick Lakes has to offer.\nUnleash your inner Viking and be part of the adventure. We can’t wait to see you there! ⚔️🔥 \nThis free event is brought to you by Stanwick Lakes and Ravens Croft Events.\nCar parking charges apply.
URL:https://stanwicklakes.org.uk/events/gathering-of-the-kings/
LOCATION:Stanwick Lakes\, NN9 6GY
CATEGORIES:Adventure,Heritage
ATTACH;FMTTYPE=image/png:https://stanwicklakes.org.uk/wp-content/uploads/2025/04/Website-event-images-15.png
ORGANIZER;CN="Stanwick Lakes":MAILTO:info@rftrust.org.uk
END:VEVENT
BEGIN:VEVENT
DTSTART;TZID=Europe/London:20250405T093000
DTEND;TZID=Europe/London:20250427T160000
DTSTAMP:20260420T045927
CREATED:20250317T114233Z
LAST-MODIFIED:20250329T174551Z
UID:10000668-1743845400-1745769600@stanwicklakes.org.uk
SUMMARY:Easter Trail
DESCRIPTION:Come and have a go at completing our Egg-cellent Easter trail during the Easter holidays! \nJoin the Funny Bunnies on our DetEGGtive Nature Trail\, learning about eggs around Solstice Lake with an activity sheet and prize.  \nTrail packs are available to purchase from the Welcome Desk in the Visitor Centre\, for £3.50 each. The trail is available every day during the Easter holidays with no need to book.
URL:https://stanwicklakes.org.uk/events/easter-trail/
LOCATION:Stanwick Lakes\, NN9 6GY
CATEGORIES:Adventure,Easter,Featured Events
ATTACH;FMTTYPE=image/jpeg:https://stanwicklakes.org.uk/wp-content/uploads/2025/03/Website-event-images-61.jpg
ORGANIZER;CN="Stanwick Lakes":MAILTO:info@rftrust.org.uk
END:VEVENT
END:VCALENDAR