BEGIN:VCALENDAR
VERSION:2.0
PRODID:-//Stanwick Lakes - ECPv6.15.20//NONSGML v1.0//EN
CALSCALE:GREGORIAN
METHOD:PUBLISH
X-ORIGINAL-URL:https://stanwicklakes.org.uk
X-WR-CALDESC:Events for Stanwick Lakes
REFRESH-INTERVAL;VALUE=DURATION:PT1H
X-Robots-Tag:noindex
X-PUBLISHED-TTL:PT1H
BEGIN:VTIMEZONE
TZID:Europe/London
BEGIN:DAYLIGHT
TZOFFSETFROM:+0000
TZOFFSETTO:+0100
TZNAME:BST
DTSTART:20240331T010000
END:DAYLIGHT
BEGIN:STANDARD
TZOFFSETFROM:+0100
TZOFFSETTO:+0000
TZNAME:GMT
DTSTART:20241027T010000
END:STANDARD
BEGIN:DAYLIGHT
TZOFFSETFROM:+0000
TZOFFSETTO:+0100
TZNAME:BST
DTSTART:20250330T010000
END:DAYLIGHT
BEGIN:STANDARD
TZOFFSETFROM:+0100
TZOFFSETTO:+0000
TZNAME:GMT
DTSTART:20251026T010000
END:STANDARD
BEGIN:DAYLIGHT
TZOFFSETFROM:+0000
TZOFFSETTO:+0100
TZNAME:BST
DTSTART:20260329T010000
END:DAYLIGHT
BEGIN:STANDARD
TZOFFSETFROM:+0100
TZOFFSETTO:+0000
TZNAME:GMT
DTSTART:20261025T010000
END:STANDARD
END:VTIMEZONE
BEGIN:VEVENT
DTSTART;TZID=Europe/London:20251108T103000
DTEND;TZID=Europe/London:20251206T130000
DTSTAMP:20260424T092812
CREATED:20250904T112346Z
LAST-MODIFIED:20251006T164210Z
UID:10000732-1762597800-1765026000@stanwicklakes.org.uk
SUMMARY:Glass Fusion - Abstract Trees & Snowflakes
DESCRIPTION:Come and create your own unique tree ornaments with artist Sally McRae this Christmas. In this workshop Sally will teach you how to cut glass\, using a wide range of colours in both transparent and opaque finishes\, you will create your very own abstract tree or snowflake decorations. Whilst everyone works at their own speed you can typically expect to make 2 to 3 pieces. Once completed\, your creations will be taken to Sally’s studio where they will be fired twice in her kiln. They will be ready to collect from Stanwick Lakes within 7 days\, ready to adorn your tree this Christmas. They also make a perfect gift! \nThere are currently two dates available: Saturday 8th November 2025 & Saturday 6th December 2025.\n \n  \nLike this workshop? Sold out?\nYou might also like Glass Fusion Mini Wreaths\n  \n 
URL:https://stanwicklakes.org.uk/events/glass-fusion-abstract-trees-snowflakes/
LOCATION:Stanwick Lakes\, NN9 6GY
CATEGORIES:Christmas,Courses,Learn
ATTACH;FMTTYPE=image/jpeg:https://stanwicklakes.org.uk/wp-content/uploads/2024/11/Festive-Lates-Workshop-Glass-Fusion-Abstract-Trees-scaled.jpg
ORGANIZER;CN="Stanwick Lakes":MAILTO:info@rftrust.org.uk
END:VEVENT
BEGIN:VEVENT
DTSTART;TZID=Europe/London:20251108T133000
DTEND;TZID=Europe/London:20251206T160000
DTSTAMP:20260424T092812
CREATED:20250904T112240Z
LAST-MODIFIED:20250911T104232Z
UID:10000733-1762608600-1765036800@stanwicklakes.org.uk
SUMMARY:Glass Fusion - Abstract Wreaths
DESCRIPTION:Come and create your very own glass wreath with artist Sally McRae this Christmas. In this workshop Sally will teach you how to cut glass using mosaic cutters and using a wide range of colours in both transparent and opaque finishes\, you will create your very own beautiful wreath that is unique to you. Once completed\, your creations will be taken to Sally’s studio where they will be fired twice in her kiln. They will be ready to collect from Stanwick Lakes within 7 days\, ready in time for Christmas. \nThere are currently two dates available: 1.30pm Saturday 8th November 2025 & 1.30pm Saturday 6th December 2025.
URL:https://stanwicklakes.org.uk/events/glass-fusion-abstract-wreaths/
LOCATION:Stanwick Lakes\, NN9 6GY
CATEGORIES:Christmas,Courses,Learn
ATTACH;FMTTYPE=image/jpeg:https://stanwicklakes.org.uk/wp-content/uploads/2025/09/Sally-Glass-Fusion-Wreaths.jpg
ORGANIZER;CN="Stanwick Lakes":MAILTO:info@rftrust.org.uk
END:VEVENT
BEGIN:VEVENT
DTSTART;TZID=Europe/London:20251116T100000
DTEND;TZID=Europe/London:20251116T140000
DTSTAMP:20260424T092812
CREATED:20250827T143646Z
LAST-MODIFIED:20251114T095519Z
UID:10000728-1763287200-1763301600@stanwicklakes.org.uk
SUMMARY:Batik Silk Painting - Winter Berries
DESCRIPTION:Step into a world of colour and creativity this November in this inspiring Batik Silk Painting workshop led by artist Lisa Deighan. \nIn this hands-on\, beginner-friendly class\, Lisa will guide you through the beautiful and organic process of batik – a centuries-old technique that uses melted wax and vibrant inks on silk to create rich\, flowing designs. Over four hours\, you’ll experiment with mark-making\, layering\, and colour blending\, before crafting your own unique silk artwork inspired by the natural forms of winter berries. \nBy the end of the session\, you’ll leave not only with a framed piece of art to treasure (or gift!) but also with the confidence to continue exploring this versatile medium at home. \nAll materials are included\, along with plenty of encouragement\, expert tips\, and creative inspiration. Whether you’re completely new to silk painting or simply curious to try something different\, this is a relaxed and rewarding way to spend the day. \nPlease bring an apron or wear old clothes as the inks may stain clothing. \nPlease note lunch is not provided\, but you are welcome to bring your own packed lunch or visit our Visitor Centre Café. \n 
URL:https://stanwicklakes.org.uk/events/batik-silk-painting-full-day-workshop-winter-25/
LOCATION:Stanwick Lakes\, NN9 6GY
CATEGORIES:Courses,Learn
ATTACH;FMTTYPE=image/jpeg:https://stanwicklakes.org.uk/wp-content/uploads/2025/08/Website-event-images-3.jpg
ORGANIZER;CN="Stanwick Lakes":MAILTO:info@rftrust.org.uk
END:VEVENT
BEGIN:VEVENT
DTSTART;TZID=Europe/London:20251122T093000
DTEND;TZID=Europe/London:20251123T163000
DTSTAMP:20260424T092812
CREATED:20250220T154043Z
LAST-MODIFIED:20250910T102159Z
UID:10000654-1763803800-1763915400@stanwicklakes.org.uk
SUMMARY:2-Day Stained Glass Workshop
DESCRIPTION:2-Day Stained Glass Workshop \nCourse Overview: \nThis two-day course gives you an introduction to the traditional method of stained-glass making. This course in traditional method of stained-glass construction will give you an insight into this ancient craft. You will be fully guided through the process and given lots of tips\, tricks\, insight\, and appreciation of stained-glass window-making. \nThe course will start with an introduction to the art of stained glass\, the design\, and how we ‘paint with light’\, including the equipment and tools used to do this. You will quickly move on to the practical aspect by learning how to score and break glass. This will be followed by practice cutting glass to a design until you’re ready to start cutting the coloured glass for your main project. You can either use one of the designs provided or bring along a design of your own. \nThere will be a full demonstration of the process of constructing a panel at each stage\, and we will discuss the tools and techniques being used. Work will be focused on building and finishing your stained-glass panel by leading\, soldering and cementing your design piece which you’ll finish in time to take home. \nNext available dates: 12th &13th April (limited spaces left) or 7th & 8th June\, 5th & 6th July \nTo take part in this course and our other heritage courses\, visit our Traditional Crafts page. \n 
URL:https://stanwicklakes.org.uk/events/2-day-stained-glass-workshop/
LOCATION:Stanwick Lakes\, NN9 6GY
CATEGORIES:Courses,Learn
ATTACH;FMTTYPE=image/jpeg:https://stanwicklakes.org.uk/wp-content/uploads/2025/02/Stained-Glass-Workshop.jpg
ORGANIZER;CN="Stanwick Lakes":MAILTO:info@rftrust.org.uk
END:VEVENT
END:VCALENDAR